BEGIN:VCALENDAR
VERSION:2.0
PRODID:-//Bien vieillir chez soi - ECPv6.15.14//NONSGML v1.0//EN
CALSCALE:GREGORIAN
METHOD:PUBLISH
X-WR-CALNAME:Bien vieillir chez soi
X-ORIGINAL-URL:https://bvcs-aip.ca
X-WR-CALDESC:Évènements pour Bien vieillir chez soi
REFRESH-INTERVAL;VALUE=DURATION:PT1H
X-Robots-Tag:noindex
X-PUBLISHED-TTL:PT1H
BEGIN:VTIMEZONE
TZID:America/Montreal
BEGIN:DAYLIGHT
TZOFFSETFROM:-0500
TZOFFSETTO:-0400
TZNAME:EDT
DTSTART:20230312T070000
END:DAYLIGHT
BEGIN:STANDARD
TZOFFSETFROM:-0400
TZOFFSETTO:-0500
TZNAME:EST
DTSTART:20231105T060000
END:STANDARD
BEGIN:DAYLIGHT
TZOFFSETFROM:-0500
TZOFFSETTO:-0400
TZNAME:EDT
DTSTART:20240310T070000
END:DAYLIGHT
BEGIN:STANDARD
TZOFFSETFROM:-0400
TZOFFSETTO:-0500
TZNAME:EST
DTSTART:20241103T060000
END:STANDARD
BEGIN:DAYLIGHT
TZOFFSETFROM:-0500
TZOFFSETTO:-0400
TZNAME:EDT
DTSTART:20250309T070000
END:DAYLIGHT
BEGIN:STANDARD
TZOFFSETFROM:-0400
TZOFFSETTO:-0500
TZNAME:EST
DTSTART:20251102T060000
END:STANDARD
END:VTIMEZONE
BEGIN:VEVENT
DTSTART;VALUE=DATE:20240101
DTEND;VALUE=DATE:20240102
DTSTAMP:20260423T065149
CREATED:20231215T175536Z
LAST-MODIFIED:20231215T175536Z
UID:10000003-1704067200-1704153599@bvcs-aip.ca
SUMMARY:Nouvel An
DESCRIPTION:
URL:https://bvcs-aip.ca/event/nouvel-an/
LOCATION:BVCS\, 10 rue villa\, Cocagne\, Nouveau Brunswick\, e4r 3w6\, Canada
CATEGORIES:événement spécial
ATTACH;FMTTYPE=image/jpeg:https://bvcs-aip.ca/wp-content/uploads/2023/12/newyear.jpg
END:VEVENT
END:VCALENDAR